BEGIN:VCALENDAR
VERSION:2.0
PRODID:-//ChamberMaster//Event Calendar 2.0//EN
METHOD:PUBLISH
X-PUBLISHED-TTL:P3D
REFRESH-INTERVAL:P3D
CALSCALE:GREGORIAN
BEGIN:VEVENT
DTSTART:20211030T153000Z
DTEND:20211030T170000Z
X-MICROSOFT-CDO-ALLDAYEVENT:FALSE
SUMMARY:Fizz\, Bubble\, and Pop!
DESCRIPTION:A Fun Day for the Kids. Fizz\, Bubble\, and Pop! is fun "messy" science experiments\, games\, and treats for ages 4+ (Kids 4-7 need an adult present at no extra charge).
X-ALT-DESC;FMTTYPE=text/html:A Fun Day for the Kids. Fizz\, Bubble\, and Pop! is fun &quot\;messy&quot\; science experiments\, games\, and treats for ages 4+ (Kids 4-7 need an adult present at no extra charge).
LOCATION:The Calico Moose Studio 119 Main St. N Cambridge\, MN 55008
UID:e.3631.1827
SEQUENCE:3
DTSTAMP:20260425T153416Z
URL:http://north65chamber.chambermaster.com/events/details/fizz-bubble-and-pop-1827
END:VEVENT

END:VCALENDAR
